BEGIN:VCALENDAR
VERSION:2.0
PRODID:icalendar-ruby
CALSCALE:GREGORIAN
METHOD:PUBLISH
BEGIN:VEVENT
DTSTAMP:20260424T110930Z
UID:99-1691923@tablemountainchurch.com
DTSTART:20261021T150000Z
DTEND:20261021T170000Z
CLASS:PUBLIC
CREATED:20260423T200831
DESCRIPTION:
LAST-MODIFIED:20260423T200831
LOCATION:TMC Sanctuary
SUMMARY:Prayer Room
URL;VALUE=URI:https://tablemountainchurch.com/events/prayer-room/2026-10-21
END:VEVENT
END:VCALENDAR
