BEGIN:VCALENDAR
VERSION:2.0
PRODID:icalendar-ruby
CALSCALE:GREGORIAN
METHOD:PUBLISH
BEGIN:VEVENT
DTSTAMP:20260424T122523Z
UID:99-1692841@tablemountainchurch.com
DTSTART:20261028T150000Z
DTEND:20261028T170000Z
CLASS:PUBLIC
CREATED:20260424T053653
DESCRIPTION:
LAST-MODIFIED:20260424T053653
LOCATION:TMC Sanctuary
SUMMARY:Prayer Room
URL;VALUE=URI:https://tablemountainchurch.com/events/prayer-room/2026-10-28
END:VEVENT
END:VCALENDAR
