BEGIN:VCALENDAR
VERSION:2.0
PRODID:icalendar-ruby
CALSCALE:GREGORIAN
METHOD:PUBLISH
BEGIN:VEVENT
DTSTAMP:20260424T134504Z
UID:99-1692842@tablemountainchurch.com
DTSTART:20261104T160000Z
DTEND:20261104T180000Z
CLASS:PUBLIC
CREATED:20260424T053653
DESCRIPTION:
LAST-MODIFIED:20260424T053653
LOCATION:TMC Sanctuary
SUMMARY:Prayer Room
URL;VALUE=URI:https://tablemountainchurch.com/events/prayer-room/2026-11-04
END:VEVENT
END:VCALENDAR
