BEGIN:VCALENDAR
VERSION:2.0
PRODID:icalendar-ruby
CALSCALE:GREGORIAN
METHOD:PUBLISH
BEGIN:VEVENT
DTSTAMP:20260424T170441Z
UID:134-1693889@tablemountainchurch.com
DTSTART:20260930T163000Z
DTEND:20260930T173000Z
CLASS:PUBLIC
CREATED:20260424T083035
DESCRIPTION:Women's Bible Study
LAST-MODIFIED:20260424T083035
LOCATION:TMC Fireside Room
SUMMARY:Women's Bible Study
URL;VALUE=URI:https://tablemountainchurch.com/events/womens-bible-study--13
 4/2026-09-30
END:VEVENT
END:VCALENDAR
