BEGIN:VCALENDAR
VERSION:2.0
PRODID:icalendar-ruby
CALSCALE:GREGORIAN
METHOD:PUBLISH
BEGIN:VEVENT
DTSTAMP:20260424T195829Z
UID:134-1694808@tablemountainchurch.com
DTSTART:20261014T163000Z
DTEND:20261014T173000Z
CLASS:PUBLIC
CREATED:20260424T111842
DESCRIPTION:Women's Bible Study
LAST-MODIFIED:20260424T111842
LOCATION:TMC Fireside Room
SUMMARY:Women's Bible Study
URL;VALUE=URI:https://tablemountainchurch.com/events/womens-bible-study--13
 4/2026-10-14
END:VEVENT
END:VCALENDAR
