BEGIN:VCALENDAR
VERSION:2.0
PRODID:icalendar-ruby
CALSCALE:GREGORIAN
METHOD:PUBLISH
BEGIN:VEVENT
DTSTAMP:20260424T235643Z
UID:134-1696645@tablemountainchurch.com
DTSTART:20261104T173000Z
DTEND:20261104T183000Z
CLASS:PUBLIC
CREATED:20260424T165317
DESCRIPTION:Women's Bible Study
LAST-MODIFIED:20260424T165317
LOCATION:TMC Fireside Room
SUMMARY:Women's Bible Study
URL;VALUE=URI:https://tablemountainchurch.com/events/womens-bible-study--13
 4/2026-11-04
END:VEVENT
END:VCALENDAR
